BEGIN:VCALENDAR
VERSION:2.0
PRODID:-//eventon.com NONSGML v1.0//EN
CALSCALE:GREGORIAN
METHOD:PUBLISH
BEGIN:VEVENT
UID:69ea75596e615
DTSTAMP:20260423T133905
DTSTART:20240329T090000Z
DTEND:20240329T130000Z
TZID:America/Denver
LOCATION:
SUMMARY:ZOOM!!  Commission Core 2023 ZOOM!!!
DESCRIPTION:C 2023 Elizabeth Hume\nhttps://realestateeducationidaho.com/events/zoom-commission-core-2023-zoom/
URL:https://realestateeducationidaho.com/events/zoom-commission-core-2023-zoom/
END:VEVENT
END:VCALENDAR