BEGIN:VCALENDAR
VERSION:2.0
PRODID:-//eventon.com NONSGML v1.0//EN
CALSCALE:GREGORIAN
METHOD:PUBLISH
BEGIN:VEVENT
UID:69ea75538c11d
DTSTAMP:20260423T133859
DTSTART:20240411T090000Z
DTEND:20240411T120000Z
TZID:America/Denver
LOCATION:
SUMMARY:Real Estate in Today's Market
DESCRIPTION:E1522 Celeste Blackburn instructor\nhttps://realestateeducationidaho.com/events/real-estate-in-todays-market-26/
URL:https://realestateeducationidaho.com/events/real-estate-in-todays-market-26/
END:VEVENT
END:VCALENDAR