BEGIN:VCALENDAR
VERSION:2.0
PRODID:-//eventon.com NONSGML v1.0//EN
CALSCALE:GREGORIAN
METHOD:PUBLISH
BEGIN:VEVENT
UID:69ea4d23574dd
DTSTAMP:20260423T104731
DTSTART:20240411T123000Z
DTEND:20240411T163000Z
TZID:America/Denver
LOCATION:
SUMMARY:Commission Core 2023
DESCRIPTION:C2023 Mari Sandoval Instructor\nhttps://realestateeducationidaho.com/events/commission-core-2023-16/
URL:https://realestateeducationidaho.com/events/commission-core-2023-16/
END:VEVENT
END:VCALENDAR