BEGIN:VCALENDAR
VERSION:2.0
PRODID:-//eventon.com NONSGML v1.0//EN
CALSCALE:GREGORIAN
METHOD:PUBLISH
BEGIN:VEVENT
UID:69ea6524c4f0d
DTSTAMP:20260423T122956
DTSTART:20240423T130000Z
DTEND:20240423T170000Z
TZID:America/Denver
LOCATION:
SUMMARY:Ethics (Fulfills your requirement for NAR)
DESCRIPTION:Course ID: E1687 Course Name: Unlocking the Secrets of Real Estate Ethics Instructor Elizabeth Hume\nhttps://realestateeducationidaho.com/events/ethics-fulfills-your-requirement-for-nar-5/
URL:https://realestateeducationidaho.com/events/ethics-fulfills-your-requirement-for-nar-5/
END:VEVENT
END:VCALENDAR