BEGIN:VCALENDAR
VERSION:2.0
PRODID:-//eventon.com NONSGML v1.0//EN
CALSCALE:GREGORIAN
METHOD:PUBLISH
BEGIN:VEVENT
UID:69ea75557fe77
DTSTAMP:20260423T133901
DTSTART:20240426T123000Z
DTEND:20240426T163000Z
TZID:America/Denver
LOCATION:
SUMMARY:ZOOM!!!!  Unlocking the Secrets of Real Estate Ethics   ZOOM!!!!
DESCRIPTION:E1687 Elizabeth Hume\nhttps://realestateeducationidaho.com/events/zoom-unlocking-the-secrets-of-real-estate-ethics-zoom/
URL:https://realestateeducationidaho.com/events/zoom-unlocking-the-secrets-of-real-estate-ethics-zoom/
END:VEVENT
END:VCALENDAR