BEGIN:VCALENDAR
VERSION:2.0
PRODID:-//eventon.com NONSGML v1.0//EN
CALSCALE:GREGORIAN
METHOD:PUBLISH
BEGIN:VEVENT
UID:69ea613871691
DTSTAMP:20260423T121312
DTSTART:20240429T120000Z
DTEND:20240429T160000Z
TZID:America/Denver
LOCATION:
SUMMARY:ZOOM!!  Commission Core 2023 ZOOM!!!
DESCRIPTION:C 2023 Elizabeth Hume\nhttps://realestateeducationidaho.com/events/zoom-commission-core-2023-zoom-2/
URL:https://realestateeducationidaho.com/events/zoom-commission-core-2023-zoom-2/
END:VEVENT
END:VCALENDAR