BEGIN:VCALENDAR
VERSION:2.0
PRODID:-//eventon.com NONSGML v1.0//EN
CALSCALE:GREGORIAN
METHOD:PUBLISH
BEGIN:VEVENT
UID:69ea651eedfbe
DTSTAMP:20260423T122950
DTSTART:20240426T090000Z
DTEND:20240426T123000Z
TZID:America/Denver
LOCATION:
SUMMARY:ZOOM!!  Commission Core 2022 ZOOM!!!
DESCRIPTION:C 2022 Elizabeth Hume\nhttps://realestateeducationidaho.com/events/zoom-commission-core-2022-zoom-2/
URL:https://realestateeducationidaho.com/events/zoom-commission-core-2022-zoom-2/
END:VEVENT
END:VCALENDAR