BEGIN:VCALENDAR
VERSION:2.0
PRODID:-//eventon.com NONSGML v1.0//EN
CALSCALE:GREGORIAN
METHOD:PUBLISH
BEGIN:VEVENT
UID:69ea61396cc45
DTSTAMP:20260423T121313
DTSTART:20240521T130000Z
DTEND:20240521T170000Z
TZID:America/Denver
LOCATION:
SUMMARY:Ethics (Fulfills your requirement for NAR)
DESCRIPTION:Course ID: E1687 Course Name: Unlocking the Secrets of Real Estate Ethics Instructor Elizabeth Hume\nhttps://realestateeducationidaho.com/events/ethics-fulfills-your-requirement-for-nar-6/
URL:https://realestateeducationidaho.com/events/ethics-fulfills-your-requirement-for-nar-6/
END:VEVENT
END:VCALENDAR