BEGIN:VCALENDAR
VERSION:2.0
PRODID:-//eventon.com NONSGML v1.0//EN
CALSCALE:GREGORIAN
METHOD:PUBLISH
BEGIN:VEVENT
UID:69ea6369331e6
DTSTAMP:20260423T122233
DTSTART:20240523T090000Z
DTEND:20240523T123000Z
TZID:America/Denver
LOCATION:
SUMMARY:ZOOM!!  Commission Core 2022 ZOOM!!!
DESCRIPTION:C 2022 Elizabeth Hume\nhttps://realestateeducationidaho.com/events/zoom-commission-core-2022-zoom-3/
URL:https://realestateeducationidaho.com/events/zoom-commission-core-2022-zoom-3/
END:VEVENT
END:VCALENDAR