BEGIN:VCALENDAR
VERSION:2.0
PRODID:-//eventon.com NONSGML v1.0//EN
CALSCALE:GREGORIAN
METHOD:PUBLISH
BEGIN:VEVENT
UID:69ea638916d47
DTSTAMP:20260423T122305
DTSTART:20240529T090000Z
DTEND:20240529T130000Z
TZID:America/Denver
LOCATION:
SUMMARY:ZOOM!!  Commission Core 2023 ZOOM!
DESCRIPTION:C 2023 Elizabeth Hume\nhttps://realestateeducationidaho.com/events/zoom-commission-core-2023-zoom-3/
URL:https://realestateeducationidaho.com/events/zoom-commission-core-2023-zoom-3/
END:VEVENT
END:VCALENDAR