BEGIN:VCALENDAR
VERSION:2.0
PRODID:-//eventon.com NONSGML v1.0//EN
CALSCALE:GREGORIAN
METHOD:PUBLISH
BEGIN:VEVENT
UID:69ea65252d755
DTSTAMP:20260423T122957
DTSTART:20240529T131500Z
DTEND:20240529T171500Z
TZID:America/Denver
LOCATION:
SUMMARY:ZOOM!!!!  Unlocking the Secrets of Real Estate Ethics   ZOOM!!!!
DESCRIPTION:E1687 Elizabeth Hume\nhttps://realestateeducationidaho.com/events/zoom-unlocking-the-secrets-of-real-estate-ethics-zoom-2/
URL:https://realestateeducationidaho.com/events/zoom-unlocking-the-secrets-of-real-estate-ethics-zoom-2/
END:VEVENT
END:VCALENDAR