BEGIN:VCALENDAR
VERSION:2.0
PRODID:-//eventon.com NONSGML v1.0//EN
CALSCALE:GREGORIAN
METHOD:PUBLISH
BEGIN:VEVENT
UID:69ea75560da96
DTSTAMP:20260423T133902
DTSTART:20240604T130000Z
DTEND:20240604T170000Z
TZID:America/Denver
LOCATION:
SUMMARY:Skills for Success in Any Market
DESCRIPTION:E1657\nhttps://realestateeducationidaho.com/events/skills-for-success-in-any-market-3/
URL:https://realestateeducationidaho.com/events/skills-for-success-in-any-market-3/
END:VEVENT
END:VCALENDAR