BEGIN:VCALENDAR
VERSION:2.0
PRODID:-//eventon.com NONSGML v1.0//EN
CALSCALE:GREGORIAN
METHOD:PUBLISH
BEGIN:VEVENT
UID:69ea57684ae88
DTSTAMP:20260423T113120
DTSTART:20240606T123000Z
DTEND:20240606T163000Z
TZID:America/Denver
LOCATION:
SUMMARY:Commission Core 2023
DESCRIPTION:C2023\nhttps://realestateeducationidaho.com/events/commission-core-2023-18/
URL:https://realestateeducationidaho.com/events/commission-core-2023-18/
END:VEVENT
END:VCALENDAR