BEGIN:VCALENDAR
VERSION:2.0
PRODID:-//eventon.com NONSGML v1.0//EN
CALSCALE:GREGORIAN
METHOD:PUBLISH
BEGIN:VEVENT
UID:69ea755407095
DTSTAMP:20260423T133900
DTSTART:20240606T090000Z
DTEND:20240606T120000Z
TZID:America/Denver
LOCATION:
SUMMARY:Real Estate in Today's Market
DESCRIPTION:E1522\nhttps://realestateeducationidaho.com/events/real-estate-in-todays-market-27/
URL:https://realestateeducationidaho.com/events/real-estate-in-todays-market-27/
END:VEVENT
END:VCALENDAR