BEGIN:VCALENDAR
VERSION:2.0
PRODID:-//eventon.com NONSGML v1.0//EN
CALSCALE:GREGORIAN
METHOD:PUBLISH
BEGIN:VEVENT
UID:69ea7553016dc
DTSTAMP:20260423T133859
DTSTART:20240620T130000Z
DTEND:20240620T160000Z
TZID:America/Denver
LOCATION:
SUMMARY:ZOOM  The Seller Centric Experience Steps For A Comprehensive Listing Process
DESCRIPTION:E1535 Elizabeth Hume Instructor\nhttps://realestateeducationidaho.com/events/the-seller-centric-experience-steps-for-a-comprehensive-listing-process-11/
URL:https://realestateeducationidaho.com/events/the-seller-centric-experience-steps-for-a-comprehensive-listing-process-11/
END:VEVENT
END:VCALENDAR