BEGIN:VCALENDAR
VERSION:2.0
PRODID:-//eventon.com NONSGML v1.0//EN
CALSCALE:GREGORIAN
METHOD:PUBLISH
BEGIN:VEVENT
UID:69ea4d216cfbc
DTSTAMP:20260423T104729
DTSTART:20240726T090000Z
DTEND:20240726T120000Z
TZID:America/Denver
LOCATION:
SUMMARY:A Connection Culture Creating Trust By Living Your Value Proposition E1524
DESCRIPTION:\nhttps://realestateeducationidaho.com/events/a-connection-culture-creating-trust-by-living-your-value-proposition-e1524-3/
URL:https://realestateeducationidaho.com/events/a-connection-culture-creating-trust-by-living-your-value-proposition-e1524-3/
END:VEVENT
END:VCALENDAR