BEGIN:VCALENDAR
VERSION:2.0
PRODID:-//eventon.com NONSGML v1.0//EN
CALSCALE:GREGORIAN
METHOD:PUBLISH
BEGIN:VEVENT
UID:69ea536a3bdb8
DTSTAMP:20260423T111418
DTSTART:20240702T123000Z
DTEND:20240702T160000Z
TZID:America/Denver
LOCATION:
SUMMARY:Commission Core 2024
DESCRIPTION:C2024\nhttps://realestateeducationidaho.com/events/commission-core-2024/
URL:https://realestateeducationidaho.com/events/commission-core-2024/
END:VEVENT
END:VCALENDAR