BEGIN:VCALENDAR
VERSION:2.0
PRODID:-//eventon.com NONSGML v1.0//EN
CALSCALE:GREGORIAN
METHOD:PUBLISH
BEGIN:VEVENT
UID:69ea638daea32
DTSTAMP:20260423T122309
DTSTART:20240729T080000Z
DTEND:20240729T123000Z
TZID:America/Denver
LOCATION:
SUMMARY:ZOOM!!  Commission Core 2024 ZOOM!
DESCRIPTION:C 2024 Elizabeth Hume\nhttps://realestateeducationidaho.com/events/zoom-commission-core-2024-zoom-4/
URL:https://realestateeducationidaho.com/events/zoom-commission-core-2024-zoom-4/
END:VEVENT
END:VCALENDAR