BEGIN:VCALENDAR
VERSION:2.0
PRODID:-//eventon.com NONSGML v1.0//EN
CALSCALE:GREGORIAN
METHOD:PUBLISH
BEGIN:VEVENT
UID:69ea6392d284e
DTSTAMP:20260423T122314
DTSTART:20240806T083000Z
DTEND:20240806T120000Z
TZID:America/Denver
LOCATION:
SUMMARY:ZOOM!!  Commission Core 2024 ZOOM!
DESCRIPTION:C 2024 Elizabeth Hume\nhttps://realestateeducationidaho.com/events/zoom-commission-core-2024-zoom-5/
URL:https://realestateeducationidaho.com/events/zoom-commission-core-2024-zoom-5/
END:VEVENT
END:VCALENDAR