BEGIN:VCALENDAR
VERSION:2.0
PRODID:-//eventon.com NONSGML v1.0//EN
CALSCALE:GREGORIAN
METHOD:PUBLISH
BEGIN:VEVENT
UID:69ea6524c51ad
DTSTAMP:20260423T122956
DTSTART:20240813T130000Z
DTEND:20240813T170000Z
TZID:America/Denver
LOCATION:
SUMMARY:Unlocking the Secrets of Real Estate Ethics (Fulfills your requirement for NAR)
DESCRIPTION:Course ID: E1687 Course Name: Unlocking the Secrets of Real Estate Ethics Instructor Elizabeth Hume Kills two birds with one stone\,  get IREC CE credit and fulfill Ethics Requirement!!! Oh and have fun!!\nhttps://realestateeducationidaho.com/events/unlocking-the-secrets-of-real-estate-ethics-fulfills-your-requirement-for-nar/
URL:https://realestateeducationidaho.com/events/unlocking-the-secrets-of-real-estate-ethics-fulfills-your-requirement-for-nar/
END:VEVENT
END:VCALENDAR