BEGIN:VCALENDAR
VERSION:2.0
PRODID:-//eventon.com NONSGML v1.0//EN
CALSCALE:GREGORIAN
METHOD:PUBLISH
BEGIN:VEVENT
UID:69ea6388526b4
DTSTAMP:20260423T122304
DTSTART:20240830T130000Z
DTEND:20240830T170000Z
TZID:America/Denver
LOCATION:
SUMMARY:ZOOM!!  Commission Core 2023 ZOOM!
DESCRIPTION:C 2023 Elizabeth Hume\nhttps://realestateeducationidaho.com/events/zoom-commission-core-2023-zoom-5/
URL:https://realestateeducationidaho.com/events/zoom-commission-core-2023-zoom-5/
END:VEVENT
END:VCALENDAR