BEGIN:VCALENDAR
VERSION:2.0
PRODID:-//eventon.com NONSGML v1.0//EN
CALSCALE:GREGORIAN
METHOD:PUBLISH
BEGIN:VEVENT
UID:69ea4d21ce499
DTSTAMP:20260423T104729
DTSTART:20240917T130000Z
DTEND:20240917T163000Z
TZID:America/Denver
LOCATION:
SUMMARY:Commission Core 2024
DESCRIPTION:C2024\nhttps://realestateeducationidaho.com/events/commission-core-2024-4/
URL:https://realestateeducationidaho.com/events/commission-core-2024-4/
END:VEVENT
END:VCALENDAR