BEGIN:VCALENDAR
VERSION:2.0
PRODID:-//eventon.com NONSGML v1.0//EN
CALSCALE:GREGORIAN
METHOD:PUBLISH
BEGIN:VEVENT
UID:69ea61367000e
DTSTAMP:20260423T121310
DTSTART:20241112T130000Z
DTEND:20241112T170000Z
TZID:America/Denver
LOCATION:
SUMMARY:Commission Core 2024
DESCRIPTION:C2024\nhttps://realestateeducationidaho.com/events/commission-core-2024-8/
URL:https://realestateeducationidaho.com/events/commission-core-2024-8/
END:VEVENT
END:VCALENDAR