BEGIN:VCALENDAR
VERSION:2.0
PRODID:-//eventon.com NONSGML v1.0//EN
CALSCALE:GREGORIAN
METHOD:PUBLISH
BEGIN:VEVENT
UID:69ea6b7252435
DTSTAMP:20260423T125650
DTSTART:20241210T130000Z
DTEND:20241210T170000Z
TZID:America/Denver
LOCATION:
SUMMARY:Commission Core 2024
DESCRIPTION:C2024\nhttps://realestateeducationidaho.com/events/commission-core-2024-9/
URL:https://realestateeducationidaho.com/events/commission-core-2024-9/
END:VEVENT
END:VCALENDAR