BEGIN:VCALENDAR
VERSION:2.0
PRODID:-//eventon.com NONSGML v1.0//EN
CALSCALE:GREGORIAN
METHOD:PUBLISH
BEGIN:VEVENT
UID:69ea5487c5566
DTSTAMP:20260423T111903
DTSTART:20240726T123000Z
DTEND:20240726T163000Z
TZID:America/Denver
LOCATION:
SUMMARY:Commission Core 2023
DESCRIPTION:C2023\nhttps://realestateeducationidaho.com/events/commission-core-2023-19/
URL:https://realestateeducationidaho.com/events/commission-core-2023-19/
END:VEVENT
END:VCALENDAR