BEGIN:VCALENDAR
VERSION:2.0
PRODID:-//eventon.com NONSGML v1.0//EN
CALSCALE:GREGORIAN
METHOD:PUBLISH
BEGIN:VEVENT
UID:69ea69417a9ed
DTSTAMP:20260423T124729
DTSTART:20240822T130000Z
DTEND:20240822T160000Z
TZID:America/Denver
LOCATION:
SUMMARY:The Seller Centric Experience Steps For A Comprehensive Listing Process
DESCRIPTION:E1535\nhttps://realestateeducationidaho.com/events/the-impact-of-management-style-7/
URL:https://realestateeducationidaho.com/events/the-impact-of-management-style-7/
END:VEVENT
END:VCALENDAR