BEGIN:VCALENDAR
VERSION:2.0
PRODID:-//eventon.com NONSGML v1.0//EN
CALSCALE:GREGORIAN
METHOD:PUBLISH
BEGIN:VEVENT
UID:69eae18880547
DTSTAMP:20260423T212040
DTSTART:20251208T090000Z
DTEND:20251208T173000Z
TZID:America/Denver
LOCATION:
SUMMARY:Post License Fundamentals
DESCRIPTION:8 Hour Post License Fundamentals PL001\nhttps://realestateeducationidaho.com/events/post-license-fundamentals-5/
URL:https://realestateeducationidaho.com/events/post-license-fundamentals-5/
END:VEVENT
END:VCALENDAR